BEGIN:VCALENDAR
VERSION:2.0
PRODID:-//wp-events-plugin.com//7.2.3.1//EN
TZID:Europe/Rome
X-WR-TIMEZONE:Europe/Rome
BEGIN:VEVENT
UID:16508@milanoindiscoteca.it
DTSTART:20150508T230000Z
DTEND:20150508T230000Z
DTSTAMP:20150429T174426Z
URL:https://www.milanoindiscoteca.it/eventi-milano/disco-radio-party-gabry
 -ponte-fabrique-milano/
SUMMARY:Disco Radio Party Gabry Ponte Fabrique Milano
DESCRIPTION:Disco Radio Party la serata più acclamata a Milano con Matteo
  Epis\, Edo Munari e Walter Pizzulli the voice torna il 9 Maggio alla disc
 oteca Fabrique\, via Fantoli\, di Milano con un super guest: DJ GABRY PONT
 E.\n\n[pinkbox]\nDisco Radio Party Gabry Ponte Fabrique Milano\nITA: Ingre
 sso esclusivamente in prevendita:\nENG: Entrance only with Pre Sales Ticke
 t:\n18€ \nTavoli:\n- consolle 500€ con 2 bottiglie per 10 ingressi\n-
  fronte consolle 300€ con 2 bottiglie per 10 ingressi\nITA: Informazioni
  e prenotazioni: +393292345620 (anche whatsapp e imessage)\nENG: Info and 
 Reservations: +393282345620 (also whatsapp and imessage)\nPRENOTA\n[/pinkb
 ox]\n\n\n\nIn occasione di questa special edition del Disco Radio Party Mi
 lano verrà regalata\, ai più fortunati\, la nuova Disco Radio Compilatio
 n 7.0 che verrà presentata in anteprima nel corso della serata.\nDisco Ra
 dio Party Milano:\nDisco Radio Party il party per gli amanti della storica
  emittente radio fonica anni 90. Stazione con cui la generazione 80' e 90
 ' è cresciuta: a ritmo di musica dance in di compagnia Matteo Epis\, Edo 
 Munari e Walter Pizzulli.\n\nOspite del Disco Radio Party del 9 Maggio: Ga
 bry Ponte.\nGabry Ponte Disco Radio Party Milano:\nGabry Ponte conosciuto 
 ai più per i suoi successi anni 90 come: "Geordie"\, "La Danza delle Stre
 ghe"\, "Vivi nell'aria"\,  "Figli di Pitagora" e molti altri ancora. Gabr
 y Ponte è anche il Dj degli Eiffel 65 altro storico gruppo che ha segnato
  la storia degli anni 90.\n\nITA: Informazioni e prenotazioni: +3932923456
 20 (anche whatsapp e imessage)\nENG: Info and Reservations: +393282345620 
 (also whatsapp and imessage)
ATTACH;FMTTYPE=image/jpeg:https://www.milanoindiscoteca.it/wp-content/uplo
 ads/2015/04/Discoradio-Party-Fabrique-Milano-milanoindiscoteca.jpg
CATEGORIES:Evento con prevendita,Evento in homepage,Serata Anni 90
LOCATION:Fabrique Milano\, Via Fantoli 9\, Milano\, 20100\, Italia
GEO:45.452271;9.252526
X-APPLE-STRUCTURED-LOCATION;VALUE=URI;X-ADDRESS=Via Fantoli 9\, Milano\, 20
 100\, Italia;X-APPLE-RADIUS=100;X-TITLE=Fabrique Milano:geo:45.452271,9.25
 2526
END:VEVENT
END:VCALENDAR