BEGIN:VCALENDAR
VERSION:2.0
PRODID:-//wp-events-plugin.com//7.2.3.1//EN
TZID:Europe/Rome
X-WR-TIMEZONE:Europe/Rome
BEGIN:VEVENT
UID:15581@milanoindiscoteca.it
DTSTART:20150130T230000Z
DTEND:20150130T230000Z
DTSTAMP:20150124T173751Z
URL:https://www.milanoindiscoteca.it/eventi-milano/darius-syrossian-amnesi
 a-sabato-31-gennaio/
SUMMARY:Darius Syrossian Amnesia Sabato 31 Gennaio
DESCRIPTION:[pinkbox]Prezzi Darius Syrossian Amnesia Sabato 31 Gennaio:\nPr
 evendite 13€ + d.d.p. (valide tutta la notte con ingresso privilegiato)\
 nRidotto 15€(liste fino alla 1.00)\nIntero 20€\n\n&nbsp\;\nTavoli:\nPr
 ivè Palco Consolle 500€ x 10 persone con 2 bottiglie (champagne o alcol
 ico superior)\nPrivè Pista 200€ x 5 persone con 1 bottiglia\n[/pinkbox]
 \n&nbsp\;\nPer essere inseriti nella lista NOMINALE di MILANOINDISCOTECA:\
 nscrivere sms (anche whatsapp) al +39 328 2345620 con: Amnesia Sabato 31 +
  nome e cognome + numero persone\n\nes: in 8 persone scrivere: Amnesia Sab
 ato 31 Francesco Verdi\, 8 persone\n\nSi ricorda che è sempre vigente la 
 selezione all’ingresso. Abbigliamento curato è sempre gradito.\n&nbsp\;
 \nInfo line / Info tavoli amnesia milano: + 39 3282345620  (anche whatsapp
 )\n&nbsp\;\nInfo Serata Darius Syrossian Amnesia Sabato 31 Gennaio:\n&nbsp
 \;\nMain Room:\nDARIUS SYROSSIAN\n(Tribal Session\, Sankeys)\nB. CONVERSO\
 n(Flash\, Magazzini Generali)\n\n&nbsp\;\nSabato 31 gennaio 2015 il regno 
 dell’Amnesia Milano cede il suo prestigioso scettro al dj che più di tu
 tti ha dominato l’estate ibizenca: l’anglo-iraniano Darius Syrossian\,
  resident del Sankeys di Ibiza e che per l’Italia costituisce di fatto u
 n inedito assoluto o quasi. Tra le sue ultime gemme\, la compilation per i
  vent’anni del Sankeys\, che si apre con il suo superbo remix per Green 
 Velvet e la recente vittoria ai Best of British\, i premi che la rivista i
 nglese Dj Mag ogni anno riserva ai migliori talenti e locali britannici e 
 che Syrossian si è aggiudicato per la seconda volta in carriera. La sua 
 è una house music assolutamente trasversale\, capace di ipnotizzare chiun
 que sappia e voglia farsi trascinare da chi sa come si conduce un regno\, 
 pardòn una serata. Sabato 31 gennaio Syrossian è affiancato da B.Convers
 o\, da questa stagione Amnesia Milano resident\, propone un repertorio hou
 se\, techno e persino funk\, come certificano i suoi remix per le etichett
 e Flash Recordings\, Hell Yeah e Lapsus\; in A.Lab (Amnesia second room) s
 uonano Alex Mune\, Giuliano Cagnazzo\, Nicolò Schnur e John Flower b2b Gi
 orgio Thayder.\n\nCon la serata di sabato 31 gennaio l’Amnesia Milano si
  proietta nel migliore dei modi nel mese di febbraio\, che prevede come se
 mpre sabati sera di altissimo livello\, con la preziosa aggiunta di due ex
 tra-date al Fabrique di Milano che vedeanno protagonisti Chris Liebing e R
 icardo Villalobos. Tutti i dettagli nei relativi comunicati.
ATTACH;FMTTYPE=image/jpeg:https://www.milanoindiscoteca.it/wp-content/uplo
 ads/2015/01/Sabato-Amnesia-Milano-milanoindiscoteca.jpg
CATEGORIES:Evento con prevendita,Evento in homepage,Serate Elettroniche
LOCATION:Amnesia Milano\, Via Alfonso Gatto (angolo Forlanini)\, Milano\, I
 talia
GEO:45.465454;9.186516
X-APPLE-STRUCTURED-LOCATION;VALUE=URI;X-ADDRESS=Via Alfonso Gatto (angolo F
 orlanini)\, Milano\, Italia;X-APPLE-RADIUS=100;X-TITLE=Amnesia Milano:geo:
 45.465454,9.186516
END:VEVENT
END:VCALENDAR