BEGIN:VCALENDAR
VERSION:2.0
PRODID:-//wp-events-plugin.com//7.2.3.1//EN
TZID:Europe/Rome
X-WR-TIMEZONE:Europe/Rome
BEGIN:VEVENT
UID:15580@milanoindiscoteca.it
DTSTART:20150205T230000Z
DTEND:20150205T230000Z
DTSTAMP:20150206T134455Z
URL:https://www.milanoindiscoteca.it/eventi-milano/chris-liebing-fabrique-
 milano-venerdi-6-febbraio/
SUMMARY:Chris Liebing Fabrique Milano Venerdì 6 Febbraio
DESCRIPTION:[pinkbox]\n\n\nPrezzi Chris Liebing Fabrique Milano Venerdì 6
  Febbraio:\nPrevendite SOLD OUT\nRidotto in lista 22€ (liste fino alle 
 0.30)\nIntero 25€\n\nTavoli:\nPrivè Palco Consolle 500€ x 10 persone 
 con 2 bottiglie (champagne o alcolico superior)\nPrivè Pista 200€ x 5 p
 ersone con 1 bottiglia\n\n[/pinkbox]\n&nbsp\;\n\nPer essere inseriti nella
  lista NOMINALE di MILANOINDISCOTECA:\nscrivere sms (anche whatsapp) al +3
 9 328 2345620 con: Fabrique Liebing + nome e cognome + numero persone\n\ne
 s: in 8 persone scrivere: Fabrique Liebing Francesco Verdi\, 8 persone\n\n
 Si ricorda che è sempre vigente la selezione all’ingresso. Abbigliament
 o curato è sempre gradito.\n\n&nbsp\;\n\nInfo line / Info tavoli amnesia 
 milano: + 39 3282345620 (anche whatsapp)\n\n&nbsp\;\n\n&nbsp\;\nInfo Serat
 a Chris Liebing Fabrique Milano Venerdì 6 Febbraio:\n&nbsp\;\nCHRIS LIEB
 ING\n(CLR)\nMONOLOC\n(CLR)\n&nbsp\;\n\nVenerdì 06 febbraio 2015 tutti a l
 ezione di techno con uno dei suoi più indiscussi paladini universali: il 
 tedesco Chris Liebing\, ospite speciale insieme a Monoloc al Fabrique di M
 ilano\, per una serata che si preannuncia epica e che viene organizzata da
  Amnesia Milano e Sincronie\, in collaborazione con Intellighenzia Elettro
 nica. Le sinergie intelligenti – sia perdonato il facile gioco di parole
  – portano davvero lontano.\n\nA Chris Liebing bastano tre lettere per r
 iassumere la sua filosofia musicale e persino di vita: CLR non è soltanto
  il nome della sua etichetta discografica\, ma anche l’acronimo che rias
 sume il suo credo: Create\, Learn and Realize\, ovvero creare\, imparare e
  capire\, tre concetti che se applicati danno sempre i giusti risultati. L
 iebing torna a Milano dopo il suo ultimo esaltante set in città svoltosi 
 all’Amnesia Milano lo scorso 1 giugno\, un party di chiusura stagionale 
 che ha registrato i massimi indici di gradimento\; merito di un artista ca
 pace di proporre una techno incapace di lasciare indifferenti e che ogni s
 ettimana trova adeguati sbocchi nel suo radio-show e nel suo podcast Spinc
 lub\, che ha appena superato le trecento puntate e vanta un’audience men
 sile di oltre 250mila ascoltatori. Venerdì 06 febbraio Liebing è affianc
 ato da Monoloc\, tedesco di Francoforte sul Meno\, dj che oscilla tra la h
 ouse e la techno e va considerato uno dei deejays in grado di integrarsi a
 l meglio con Liebing\, con il quale condivide tantissime serate e altretta
 nte sessioni negli studi discografici.\n\n&nbsp\;\n\n&nbsp\;
ATTACH;FMTTYPE=image/jpeg:https://www.milanoindiscoteca.it/wp-content/uplo
 ads/2015/01/Chris-Liebing-Fabrique-Milano-Venerdì-6-Febbraio.jpg
CATEGORIES:Evento con prevendita,Evento in homepage,Serate Elettroniche
LOCATION:Fabrique Milano\, Via Fantoli 9\, Milano\, 20100\, Italia
GEO:45.452271;9.252526
X-APPLE-STRUCTURED-LOCATION;VALUE=URI;X-ADDRESS=Via Fantoli 9\, Milano\, 20
 100\, Italia;X-APPLE-RADIUS=100;X-TITLE=Fabrique Milano:geo:45.452271,9.25
 2526
END:VEVENT
END:VCALENDAR