BEGIN:VCALENDAR
VERSION:2.0
PRODID:-//wp-events-plugin.com//7.2.3.1//EN
TZID:Europe/Rome
X-WR-TIMEZONE:Europe/Rome
BEGIN:VEVENT
UID:15699@milanoindiscoteca.it
DTSTART:20150220T230000Z
DTEND:20150220T230000Z
DTSTAMP:20150217T212719Z
URL:https://www.milanoindiscoteca.it/eventi-milano/carnevale-the-club-mila
 no/
SUMMARY:Sabato: Carnevale 2015 The Club Milano
DESCRIPTION:Trascorri la Serata di Carnevale al Top Club della movida di 
 Corso Como: il The Club che in occasione del Carnevale Ambrosiano propone
  una serata in maschera con tema brasiliano. Chi si presenta mascherato ri
 ceverà un drink di benvenuto.\n\n[pinkbox]\nPrezzi Carnevale 2015 The Cl
 ub Milano:\nPrezzi Ingresso (in lista milanoindiscoteca)\nIngresso in list
 a 10 donna / 15 uomo entro le 00\,55\nFuori lista 20€\nPrezzi Tavoli\nPi
 sta: a partire da 200€ con 6 ingressi e Bottiglia (bottiglie successive 
 160€ cadauna)\nPrive Gold: a partire da 200€ con 6 ingressi e Bottigli
 a\nPrive White: a partire da 250€ con 5 ingressi e Bottiglia\n[button st
 yle='1' caption='PRENOTA' link='#prenota'][/button]\nInfo e prenotazioni (
 anche whatsapp): +39 328 2345620\ninfo@milanoindiscoteca.it\nPer essere in
 seriti nella lista NOMINALE di MILANOINDISCOTECA:\nscrivere sms (anche wha
 tsapp) al +39 328 2345620\ncon: Carnevale The Club + nome e cognome + nume
 ro persone\nes: in 8 persone scrivere: Carnevale The Club Francesco Verdi\
 , 8 persone\nSi ricorda che è sempre vigente la selezione all’ingresso.
  abbigliamento curato e ingresso a coppie è sempre gradito.\n [/pinkbox]
 \nInfo Carnevale 2015 The Club Milano:\nSerata di Carnevale in maschera: t
 ema brasiliano.\nInfo e prenotazioni (anche whatsapp): +39 328 2345620\nin
 fo@milanoindiscoteca.it
ATTACH;FMTTYPE=image/jpeg:https://www.milanoindiscoteca.it/wp-content/uplo
 ads/2015/01/Carnevale-The-Club-Milano.jpg
CATEGORIES:Evento in homepage
LOCATION:The Club Milano\, Largo La Foppa - Corso Garibaldi\, 97\, Milano\,
  Italia
GEO:45.465454;9.186516
X-APPLE-STRUCTURED-LOCATION;VALUE=URI;X-ADDRESS=Largo La Foppa - Corso Gari
 baldi\, 97\, Milano\, Italia;X-APPLE-RADIUS=100;X-TITLE=The Club Milano:ge
 o:45.465454,9.186516
END:VEVENT
END:VCALENDAR