BEGIN:VCALENDAR
VERSION:2.0
PRODID:-//wp-events-plugin.com//7.2.3.1//EN
TZID:Europe/Rome
X-WR-TIMEZONE:Europe/Rome
BEGIN:VEVENT
UID:15703@milanoindiscoteca.it
DTSTART:20150220T231500Z
DTEND:20150220T231500Z
DTSTAMP:20150217T212630Z
URL:https://www.milanoindiscoteca.it/eventi-milano/carnevale-just-cavalli-
 milano/
SUMMARY:Sabato: Carnevale 2015 Just Cavalli Milano
DESCRIPTION:Trascorri la Serata di Carnevale in uno dei locali più in di
  Milano\; la discoteca Just Cavalli. Tema: "il mondo di Tim Burton (i pers
 onaggi dei film di Tim Burton).\n\n[pinkbox]\nPrezzi Carnevale 2015 Just 
 Cavalli Milano:\nPrezzi Ingresso (in lista milanoindiscoteca)\nAperitivo 
 (dalle 20.00 alle 22.30):\nIngresso in lista Milanoindiscoteca 15€ (zona
  interna o dehor in base alla disponibilità)\nTavoli in aperitivo: 70€ 
 spumante / 150€ super alcolico\nSerata (dalle 23.00 alle 01.00):\nIngres
 so in lista Milanoindiscoteca 20€\nTavoli in Serata: a partire da 300€
  per 5 ingressi\nPRENOTA\nInfo e prenotazioni (anche whatsapp): +39 328 23
 45620\ninfo@milanoindiscoteca.it\nPer essere inseriti nella lista NOMINALE
  di MILANOINDISCOTECA:\nscrivere sms (anche whatsapp) al +39 328 2345620\n
 con: Carnevale Just Cavalli + nome e cognome + numero persone\nes: in 8 p
 ersone scrivere: Carnevale Just Cavalli Francesco Verdi\, 8 persone\nSi r
 icorda che è sempre vigente la selezione all’ingresso. abbigliamento cu
 rato e ingresso a coppie è sempre gradito.\n [/pinkbox]\nInfo Carnevale 
 2015 Just Cavalli Milano:\nA breve maggiori info sulla serata di Carneval
 e al Just Cavalli.\nInfo e prenotazioni (anche whatsapp): +39 328 2345620\
 ninfo@milanoindiscoteca.it
ATTACH;FMTTYPE=image/jpeg:https://www.milanoindiscoteca.it/wp-content/uplo
 ads/2015/02/Carnevale-Just-Cavalli-Milano-Sabato-21-Febbraio-prenotazioni-
 3282345620.jpg
CATEGORIES:Evento in homepage
LOCATION:Just Cavalli Milano\, Via Luigi Camoens\, Milano\, 20121\, Italia
GEO:45.47297;9.172896
X-APPLE-STRUCTURED-LOCATION;VALUE=URI;X-ADDRESS=Via Luigi Camoens\, Milano\
 , 20121\, Italia;X-APPLE-RADIUS=100;X-TITLE=Just Cavalli Milano:geo:45.472
 97,9.172896
END:VEVENT
END:VCALENDAR