BEGIN:VCALENDAR
VERSION:2.0
PRODID:-//wp-events-plugin.com//7.2.3.1//EN
TZID:Europe/Rome
X-WR-TIMEZONE:Europe/Rome
BEGIN:VEVENT
UID:15702@milanoindiscoteca.it
DTSTART:20150220T234500Z
DTEND:20150220T234500Z
DTSTAMP:20150312T211906Z
URL:https://www.milanoindiscoteca.it/eventi-milano/carnevale-fabrique-mila
 no/
SUMMARY:Sabato: Fabrique Disco Radio Party Milano
DESCRIPTION:\n\nTrascorri la Serata di Carnevale alla discoteca rivelazio
 ne dell'anno a Milano: Fabrique Milano\n\n[pinkbox]\nPrezzi Carnevale 201
 5 Fabrique Milano:\nPrezzi Ingresso (in PREVENDITA)\n12.50€ (prevendita
  in pdf)\nSOLD OUT\nPrezzi Tavoli\n500€ per 10 ingressi\nSOLD OUT\n\n[bu
 tton style='1' caption='PRENOTA' link='#prenota'][/button]\nInfo e prenota
 zioni (anche whatsapp): SOLD OUT\ninfo@milanoindiscoteca.it\nPer essere i
 nseriti nella lista NOMINALE di MILANOINDISCOTECA:\nscrivere sms (anche wh
 atsapp) al +39 338 733 8905\ncon: Carnevale Fabrique + nome e cognome +
  numero persone\nes: in 8 persone scrivere: Carnevale Fabrique Francesco V
 erdi\, 8 persone\nSi ricorda che è sempre vigente la selezione all’ingr
 esso. abbigliamento curato e ingresso a coppie è sempre gradito.\n [/pin
 kbox]\nInfo Carnevale 2015 Fabrique Milano:\nLADIES &amp\; GENTLEMAN...\n
 \nPreparatevi sta' tornando il CARNEVALE più' FLUO di tutta l' ITALIA....
 ...\n\nSABATO 21 FEBBRAIO 2015\n\nIn collaborazione intensa con Discoradio
  - Il ritmo della tua città! abiamo deciso di organizzarvi una festa PAZZ
 ESCAAAAAA!!!\n\nNella location che ormai ha surclassato tutte le altre a m
 ilano..... Fabrique Milano\n\nPREPARATEVI ad assistere a tantissimi spett
 acoli mozzafiato\, esibizioni straordinariei e scenografie surreali per un
 a notte che lascerà il segno!!!!\n\nPerformance: LIVE BODY PAINTING &amp\
 ; DANCERS\, FIRE SHOW\, GAYSER SHOW and much more...\n\nSPECIAL GUESTS:\nC
 AROLINA MARQUEZ &amp\; MAGIC BOX\n\nSpecial Performance: Warez Fabio\n\nSU
 PERMANDEEJAYS:\nMATTEO EPIS &amp\; EDO MUNARI &amp\; MARCO COCCIA\n\nSUPER
 VOICE: WALTER PIZZULLI\n\nLe nostre ragazze dell'animazione daranno vita a
 \nvertiginose contorsioni\, BODY PAINTING mozzafiato &amp\; FLUO EXPLOSION
  by Susanna Liberatore\n\nIl nostro staff provvederà a truccarvi tutti di
  fluo con le nostre speciali vernici e a regalarvi dei gadget per essere i
 l più' possibile a tema...\n\nDRESS CODE : FLUO BRASIL (a carnevale vale 
 tutto)\nInfo e prenotazioni (anche whatsapp): SOLD OUT\ninfo@milanoindisc
 oteca.it
ATTACH;FMTTYPE=image/jpeg:https://www.milanoindiscoteca.it/wp-content/uplo
 ads/2015/02/Carnevale-Fabrique-Milano.jpg
CATEGORIES:Evento con prevendita,Serata Anni 90
LOCATION:Fabrique Milano\, Via Fantoli 9\, Milano\, 20100\, Italia
GEO:45.452271;9.252526
X-APPLE-STRUCTURED-LOCATION;VALUE=URI;X-ADDRESS=Via Fantoli 9\, Milano\, 20
 100\, Italia;X-APPLE-RADIUS=100;X-TITLE=Fabrique Milano:geo:45.452271,9.25
 2526
END:VEVENT
END:VCALENDAR