BEGIN:VCALENDAR
VERSION:2.0
PRODID:-//wp-events-plugin.com//7.2.3.1//EN
TZID:Europe/Rome
X-WR-TIMEZONE:Europe/Rome
BEGIN:VEVENT
UID:15738@milanoindiscoteca.it
DTSTART:20150220T234500Z
DTEND:20150220T234500Z
DTSTAMP:20150217T212727Z
URL:https://www.milanoindiscoteca.it/eventi-milano/carnevale-elrow-amnesia
 -milano/
SUMMARY:Sabato: Carnevale Elrow Amnesia Milano
DESCRIPTION:[pinkbox]\nPrezzi Carnevale Elrow Amnesia Milano:\nIngresso:\n
 Prevendite cartacee 23€\nRidotto in lista (milanoindiscoteca) 18€(entr
 o le 23.30)\nRidotto in lista 20€ (milanoindiscoteca) (entro mezzanott
 e)\nRidotto in lista 23€(milanoindiscoteca) (liste fino alle 1.00)\nInt
 ero 25€\nTavoli:\n(Champagne o alcolico superior)\nPrivè 200€ x 5 per
 sone con 1 bottiglia\nPista 160€ x 5 persone con 1 bottiglia\n\n[button 
 style='1' caption='PRENOTA' link='#prenota'][/button]\n\nPer essere inseri
 ti nella lista NOMINALE di MILANOINDISCOTECA:\nscrivere sms (anche whatsap
 p) al +39 328 2345620 con: Amnesia Sabato 31 + nome e cognome + numero per
 sone\nes: in 8 persone scrivere: Amnesia Sabato 31 Francesco Verdi\, 8 per
 sone\nSi ricorda che è sempre vigente la selezione all’ingresso. Abbigl
 iamento curato è sempre gradito.\n Info line / Info tavoli amnesia milan
 o: + 39 3282345620 (anche whatsapp)\n[/pinkbox]\nInfo Serata Carnevale El
 row Amnesia Milano:\nMARC MAYA\n(Elrow)\nDE LA SWING\n(Elrow)\nMARIO BIANI
 \n(Elrow)\n\n2nd Room\, A.Lab: FALL OUT\nDENIELE CERRI - FABIO CEEDZA - AN
 DREW PAVE\nLUCA TERZI - ALL FOR ONE - MAT V  - ANDREA DEC\nSabato 21 feb
 braio il Carnevale Ambrosiano dell’Amnesia Milanomiscela abilmente le at
 mosfere catalane con quelle indiane. Un autentico melting pot musicale\, p
 erfetto per un locale che da sempre alterna sonorità provenienti da tutto
  il mondo\, meglio ancora se ascrivibili alla cosiddetta avanguardia.\n\nS
 abato 21 febbraio Amnesia Milano presenta infatti Elrow Bollywood Party\, 
 con le scenografie\, gli allestimenti\, l’animazione ed i djs del celebe
 rrimo locale di Barcellona. Elrow è nato nel 2011 ed è stato creato dagl
 i ideatori di Monegros\, uno dei festival di musica elettronica più impor
 tanti al mondo\; è famoso in particolare per i suoi party domenicali\, ch
 e ospitano top djs dello spessore di Loco Dice e Luciano\, giusto per cita
 rne due sovente ospiti nel locale milanese. Sabato 21 Elrow approda all’
 Amnesia con il suo tipico Bollywood Party\, che si ispira al mondo cinemat
 ografico indiano (Bombay+Hollywood\, ovvero Bollywood) con musica\, danza 
 e scenari esotici a farla da padroni. In consolle i djs Marc Maya\, De La 
 Swing e Mario Biani\, che arrivano all’Amnesia subito dopo la loro parte
 cipazione all’Ultra Music Festival in programma in Sud Africa nei giorni
  immediatamente precedenti la serata all’Amnesia. Sempre sabato 21 A.Lab
  (Amnesia second room) diventa Fall Out. In consolle Daniele Cerri\, Fabio
  Ceedza\, Andrew Pave\, All For One\, Luca Terzi\, Mat V e Andrea Dec.
ATTACH;FMTTYPE=image/jpeg:https://www.milanoindiscoteca.it/wp-content/uplo
 ads/2015/02/Carnevale-Elrow-Amnesia-Milano-Milanoindiscoteca.jpg
CATEGORIES:Evento con prevendita,Evento in homepage,Serate Elettroniche
LOCATION:Amnesia Milano\, Via Alfonso Gatto (angolo Forlanini)\, Milano\, I
 talia
GEO:45.465454;9.186516
X-APPLE-STRUCTURED-LOCATION;VALUE=URI;X-ADDRESS=Via Alfonso Gatto (angolo F
 orlanini)\, Milano\, Italia;X-APPLE-RADIUS=100;X-TITLE=Amnesia Milano:geo:
 45.465454,9.186516
END:VEVENT
END:VCALENDAR