BEGIN:VCALENDAR
VERSION:2.0
PRODID:-//wp-events-plugin.com//7.2.3.1//EN
TZID:Europe/Rome
X-WR-TIMEZONE:Europe/Rome
BEGIN:VEVENT
UID:16072@milanoindiscoteca.it
DTSTART:20150416T230000Z
DTEND:20150416T230000Z
DTSTAMP:20150327T164914Z
URL:https://www.milanoindiscoteca.it/eventi-milano/benny-benassi-fabrique-
 milano/
SUMMARY:Benny Benassi Fabrique Milano
DESCRIPTION:[pinkbox]\nPrezzi Benny Benassi Fabrique Milano:\nIngresso es
 clusivamente in prevendita:\n23€\nTavoli:\nPrivè Palco Consolle 700€ 
 x 10 persone con 2 bottiglie(champagne o alcolico superior)\nPrivè Pista 
 200€ x 5 persone con 1 bottiglia\n[button style='1' caption='PRENOTA' li
 nk='#prenota'][/button]\nPer maggiori informazioni e prenotazioni chiama i
 l +393282345620 (anche whatsapp)\n[/pinkbox]\nVenerdì 17 Aprile 2015 - da
 lle 23.00 alle 5.00\n@ FABRIQUE - via Fantoli\, 9 - Milano\n\nELITA - RADI
 O DEEJAY - AMNESIA MILANO - RESET! - SINCRONIE\npresentano\nGuest dj:\nBEN
 NY BENASSI\nCERRONE\nRESET!\n\n\nVenerdì 17 aprile\, elita e Radio DEEJAY
  celebrano la vera storia della dance music\, con i suoi protagonisti asso
 luti\, del passato e del presente\, in un evento all’interno del Fabriqu
 e\, luogo che ben rappresenta il futuro della fruizione musicale e dell’
 entertainment.\n\nIl racconto della storia è affidato a due icone indiscu
 sse e senza tempo della scena\, che parleranno dalla console\, con la prop
 ria musica.\n\nCerrone\, il “Re”\, il pioniere della disco music torna
  in Italia e fa tappa a Milano nelle nuovi vesti di dj per celebrare la su
 a ultima raccolta “The Best Of Cerrone Productions”. Le sue hit senza 
 tempo come Supernature\, Love in C Minor\, dagli anni ’70 continuano anc
 ora oggi a muovere un pubblico trasversale sul dancefloor: la sua presenza
  sarà eccezionale e imperdibile.\n\nNel racconto\, non poteva mancare un
 ’altra super star\,  il maggiore rappresentante dell’evoluzione della
  dance music nel fenomeno della EDM: Benny Benassi. Con oltre un ventennio
  di carriera alle spalle e dopo l’esplosione mondiale dalla sua “Satis
 faction”\, Benassi continua a catturare il cuore di più generazioni di 
 fan in tutto il mondo. I suoi set assicurano un clima di festa incontenibi
 le.\n\nA rappresentare la next generation della dance culture\, i nostrani
  Reset!\n\nCollettivo milanese di dj\, producer e promoter capaci\, con le
  loro apparizioni\, di attirare migliaia di partecipanti\, contribuendo ad
  avere un ruolo fondamentale nella diffusione della musica electro a Milan
 o e a rappresentare un modello sulla mappa internazionale\, grazie a produ
 zioni originali al fianco dei maggiori djs mondiali.\n\nIl Design Week Fes
 tival si schiera ancora una volta a favore del divertimento\, della trasve
 rsalità\, della rappresentatività ampia e variegata di ciò che vuol dir
 e musica. Con la sua decima edizione\, il DWF continua a portare la dimens
 ione dell'intrattenimento all'interno della Design Week milanese\, con una
  ampia proposta artistica e culturale e una programmazione transnazionale 
 in cui i confini tra elettronica e contaminazione sono sempre più labili.
  #borderless\n\nL'evento sarà in collaborazione con AMNESIA Milano - DETR
 OIT Milano - Sincronie.\nBiografia Benny Benassi:\nDa più di 20 anni nei 
 club italiani\, Benny Benassi esplode come star internazionale nel 2003 co
 n la super hit "Satisfaction"\, brano acclamato da professionisti del cali
 bro di Timo Maas\, Carl Cox\, Dj Hell e Fatboy slim. Seguiranno innumerevo
 li singoli e album da milioni di copie vendute\, le collaborazioni con Mad
 onna\, Moby\, Mika\, Chris Brown\, John Legend e Jovanotti e remix per Out
 kast\, Goldfrapp\, Moby\, Felix Da Housecat ed Etienne De Crecy e moltissi
 mi altri.\n\nL'ultima sua creazione è l'evento Benny Benassi &amp\; Frien
 ds\, che ha portato l'arte del b2b a dimensioni da mega concerto.\nBiograf
 ia Cerrone:\nJean-Marc Cerrone è assieme a Giorgio Moroder tra i più im
 portanti esponenti della disco europea. Fedele alla legge del dancefloor\,
  batterista\, produttore e precursore del french touch\, Cerrone ha dato v
 ita a hit intramontabili che hanno segnato indelebilmente il mondo della d
 isco e che gli hanno fatto vendere ben 10 milioni di album. Dall'esordio a
 utoprodotto con "Love in C Minor" al successo planetario di "Supernature"\
 , fino all'ultima collezione "The Best of Cerrone Productions"\, nel mezzo
  5 Grammy Awards\, alcuni Golden Globe e altri innumerevoli premi. Cerrone
  è un mito assoluto del dancefloor\, un ponte tra lo Studio 54 e il futur
 o.\nBiografia RESET!:\nDai party che portano il loro nome fino a calcare i
  palchi internazionali grazie alle collaborazioni e ai remix realizzati pe
 r Cassius\, Fatboy Slim\, Robyn\, Audio Bullys\, Bingo Players\, Fenech So
 ler e altri. La band ha realizzato unʼenorme quantità di release\, pubbl
 icando su label di prestigio mondiale come Cheap Thrills\, Dim Mak\, South
 ern Fried e Mad Decent\, ottenendo airplay su Radio BBC1 e posizionandosi 
 ai vertici delle classifiche di Beatport\, grazie al loro inconfondibile m
 ix che fonde funk\, electro\, house e hip hop.\n\nNel loro primo album\, "
 Future madness” (Sony/Epic\, 2014) figurano le guest star Guè Pequeno\,
  Francesco Sarcina\, Emis Killa\, Noyz Narcos\, Ghemon\, i rapper Erick Se
 rmon (EPMD)\, Keith Murray\, Afrikan Boy e lo storico protagonista della n
 ew wave inglese Paul King.
ATTACH;FMTTYPE=image/jpeg:https://www.milanoindiscoteca.it/wp-content/uplo
 ads/2015/03/Benny-Benassi-Fabrique-Milano-Venerdì-17-Aprile-milanoindisco
 teca.png
CATEGORIES:Evento con prevendita,Evento in homepage,Serate Elettroniche
LOCATION:Fabrique Milano\, Via Fantoli 9\, Milano\, 20100\, Italia
GEO:45.452271;9.252526
X-APPLE-STRUCTURED-LOCATION;VALUE=URI;X-ADDRESS=Via Fantoli 9\, Milano\, 20
 100\, Italia;X-APPLE-RADIUS=100;X-TITLE=Fabrique Milano:geo:45.452271,9.25
 2526
END:VEVENT
END:VCALENDAR