BEGIN:VCALENDAR
VERSION:2.0
PRODID:-//wp-events-plugin.com//7.2.3.1//EN
TZID:Europe/Rome
X-WR-TIMEZONE:Europe/Rome
BEGIN:VEVENT
UID:15972@milanoindiscoteca.it
DTSTART:20150305T230000Z
DTEND:20150305T230000Z
DTSTAMP:20150225T232653Z
URL:https://www.milanoindiscoteca.it/eventi-milano/ben-klock-fabrique-mila
 no/
SUMMARY:Ben Klock Fabrique Milano
DESCRIPTION:[pinkbox]\nPrezzi ben Klock Fabrique Milano:\nPrevendite carta
 cee 23€\nTavoli:\nPrivè Palco Consolle 600€ x 10 persone con 2 bottig
 lie(champagne o alcolico superior)\nPrivè Pista 200€ x 5 persone con 1 
 bottiglia\n[button style='1' caption='PRENOTA' link='#prenota'][/button]\n
 Per essere inseriti nella lista NOMINALE di MILANOINDISCOTECA:\nscrivere s
 ms (anche whatsapp) al +39 328 2345620 con: Ben Klock + nome e cognome + 
 numero persone\nes: in 8 persone scrivere: Ben Klock Francesco Verdi\, 8 
 persone\nSi ricorda che è sempre vigente la selezione all’ingresso. Abb
 igliamento curato è sempre gradito.\nInfo line / Info tavoli amnesia mila
 no: + 39 3282345620 (anche whatsapp)\n[button style='1' caption='PRENOTA' 
 link='#prenota'][/button]\nPer maggiori informazioni e prenotazioni chiama
  il +393282345620 (anche whatsapp)\n[/pinkbox]\nVenerdì 6 Marzo 2015 - d
 alle 23.00 alle 5.00\n@ FABRIQUE - via Fantoli\, 9 - Milano\nGuest dj\nBEN
  KLOCK\n(Ostug Ton / Klockworks / DE)\nETAPP KYLE\n(Klockworks / UA)\nVene
 rdì 06 marzo torna a Milano uno dei dj che meglio incarna lo spirito di B
 erlino di questi ultimi anni.\nLa techno\, il Berghain parole che rapprese
 ntano bene uno scenario e che Ben ha fatto sue essendo resident del famoso
  club berlinese e artista di punta della Ostgut Ton\, la label nata propri
 o dal locale.\nNon c'è dubbio che stiamo parlando di uno degli artisti pi
 ù influenti nella scena techno mondiale e di una serata imprendibile per 
 gli amanti del suo sound.\nBEN KLOCK\nNato a Berlino\, Ben Klock è senza 
 dubbio uno tra gli artisti più significativi della storia contemporanea d
 ella techno. Resident del Berghain sin dalla sua apertura nel 2004\, è st
 ato capace di caratterizzare in modo impressionante il sound del club più
  influente al mondo. Ha prodotto per labels come Bpitch Control ed Ostgut 
 Ton\, oltre ad aver fondato la sua label Klockworks e remixato artisti com
 e Depeche Mode\, Kerry Chandler\, Martyn e Telefon Tel Aviv. Nel 2009 esce
  il suo primo album\, "One"\, acclamato da pubblico e critica e considerat
 o tra i lavori più interessanti dell'anno\, mentre nel 2010 è la volta d
 i "Berghain04"\, compilation mixata per Ostgut Ton. Nei suoi set è capace
  di armonizzare l'austerità del suono industriale con una naturale musica
 lità tipica del suono detroitiano\, un impasto reso omogeneo ed uniforme 
 grazie all'uso di groove ipnotici e profondi\; lo testimoniano le maratone
  di otto ore che lo vedono protagonista al Berghain una volta al mese e ch
 e avvolgono lo spettatore in uno spettacolo unico.
ATTACH;FMTTYPE=image/jpeg:https://www.milanoindiscoteca.it/wp-content/uplo
 ads/2015/02/Ben-Klock-Fabrique-Milano-Milanoindiscoteca.jpg
CATEGORIES:Evento con prevendita,Evento in homepage,Serate Elettroniche
LOCATION:Fabrique Milano\, Via Fantoli 9\, Milano\, 20100\, Italia
GEO:45.452271;9.252526
X-APPLE-STRUCTURED-LOCATION;VALUE=URI;X-ADDRESS=Via Fantoli 9\, Milano\, 20
 100\, Italia;X-APPLE-RADIUS=100;X-TITLE=Fabrique Milano:geo:45.452271,9.25
 2526
END:VEVENT
END:VCALENDAR