BEGIN:VCALENDAR
VERSION:2.0
PRODID:-//wp-events-plugin.com//7.2.3.1//EN
TZID:Europe/Rome
X-WR-TIMEZONE:Europe/Rome
BEGIN:VEVENT
UID:15080@milanoindiscoteca.it
DTSTART:20141224T230000Z
DTEND:20141224T230000Z
DTSTAMP:20141212T164924Z
URL:https://www.milanoindiscoteca.it/eventi-milano/amnesia-xmas-party-25-d
 icembre-serata-di-natale-milano/
SUMMARY:Amnesia Xmas Party 25 Dicembre Serata di Natale Milano
DESCRIPTION:[pinkbox]Prezzi Amnesia Xmas Party 25 Dicembre 2014 Serata di N
 atale Milano:\nRidotto 15€(fino a mezzanotte)\nRidotto 20€(liste fino 
 alle 1.15)\nAccrediti 20€(validi tutta la notte con ingresso privilegiat
 o)\n&nbsp\;\nTavoli:\nPrivè Consolle 500€ x 10 persone con 2 bottiglie(
 Champagne o alcolico superior)\nPrivè 200€ x 5 persone con 1 bottiglia\
 nPista 160€ x 5 persone con 1 bottiglia\n[/pinkbox]\n&nbsp\;\nPer essere
  inseriti nella lista NOMINALE di MILANOINDISCOTECA:\nscrivere sms (anche 
 whatsapp) al +39 328 2345620 con: Amnesia + nome e cognome + numero person
 e\n\nes: in 8 persone scrivere: Amnesia Francesco Verdi\, 8 persone\n\nSi 
 ricorda che è sempre vigente la selezione all’ingresso. Abbigliamento c
 urato è sempre gradito.\n&nbsp\;\nInfo line / Info tavoli amnesia milano:
  + 39 3282345620  (anche whatsapp)\n&nbsp\;\nInfo Serata Amnesia Xmas Part
 y 25 Dicembre 2014 Serata di Natale Milano:\n&nbsp\;\nX-MAS PARTY AMNESIA 
 MILANO\nMain Room:\nILARIO ALICANTE\n(Cocoon)\nAll night long (7hours)\n\n
 2nd Room\, A.Lab: WATS\nSTEFANO DI MICELI\nMATTEO MANUALI\nGULLO PRATI - S
 TIC\n&nbsp\;\nIl Natale ha i suoi riti ed i suoi appuntamenti imprescindib
 ili\, anche sul fronte musicale. Tra i must del 25 dicembre\, spicca ormai
  da anni il party dell’Amnesia Milano\, che propone il party Ilario Alic
 ante Allnightlong\, con il dj toscano che domina la consolle del locale me
 neghino dalla prima all’ultima traccia. Una prova di forza alla quale Al
 icante è decisamente abituato\, forte della sua appartenenza alla famigli
 a Cocoon di Sven Väth e delle sue performance nei migliori raduni musical
 i di tutto il mondo. Nel 2008\, non ancora ventenne\, è diventato il più
  giovane artista della storia mai esibitosi al festival Time Warp\; esplos
 o con il brano “Vacaciones En Chile” (Tenax Recordings) ha saputo poi 
 confermarsi e crescere sino a diventare uno dei dj italiani da esportazion
 e più apprezzati in assoluto\, grazie anche alle produzioni della sua nuo
 va etichetta discografica\, “Deep Moves”. Per la sua maratona dance al
 l’Amnesia\, Alicante promette un viaggio musicale assolutamente all’av
 anguardia. Sette ore di techno in tutte le declinazioni più imprevedibili
 .\n\nGiovedì 25 dicembre A.Lab diventa Wats\, collaudato acronimo per We 
 Are The Show: evoluzioni sonore curate da Stefano Di Miceli\, Matteo Manua
 li\, Gullo Prati e Stic.
ATTACH;FMTTYPE=image/jpeg:https://www.milanoindiscoteca.it/wp-content/uplo
 ads/2014/12/Amnesia-Milano-Xmas-Party-25-Dicembre-2014.jpg
CATEGORIES:Evento con prevendita,Evento in homepage
LOCATION:Amnesia Milano\, Via Alfonso Gatto (angolo Forlanini)\, Milano\, I
 talia
GEO:45.465454;9.186516
X-APPLE-STRUCTURED-LOCATION;VALUE=URI;X-ADDRESS=Via Alfonso Gatto (angolo F
 orlanini)\, Milano\, Italia;X-APPLE-RADIUS=100;X-TITLE=Amnesia Milano:geo:
 45.465454,9.186516
END:VEVENT
END:VCALENDAR