BEGIN:VCALENDAR
VERSION:2.0
PRODID:-//wp-events-plugin.com//7.2.3.1//EN
TZID:Europe/Rome
X-WR-TIMEZONE:Europe/Rome
BEGIN:VEVENT
UID:19569@milanoindiscoteca.it
DTSTART:20150522T230000Z
DTEND:20150522T230000Z
DTSTAMP:20150516T121329Z
URL:https://www.milanoindiscoteca.it/eventi-milano/alicante-clockwork-amne
 sia-milano/
SUMMARY:Alicante Clockwork Amnesia Milano
DESCRIPTION:[pinkbox]\nPrezzi Alicante Clockwork Amnesia Milano:\nSERATA [d
 alle 23.00]\nAccrediti 18€ (validi tutta la notte con ingresso privilegi
 ato)\nRidotto 15€ (fino a mezzanotte)\nRidotto 18€ (liste fino alle 01
 .15)\nIntero 22€\nTavoli:\nPrivè Consolle 500€ x 5 persone con 1 bott
 iglia(Champagne o alcolico superior)\nPrivè 200€ x 5 persone con 1 bott
 iglia\nPista 160€ x 5 persone con 1 bottiglia\n[vc_separator width="80%"
  align="none"]\nPRENOTA\nPer essere inseriti nella lista NOMINALE di MILAN
 OINDISCOTECA:\nscrivere sms (anche whatsapp) al +39 328 2345620 con: Alica
 nte Clockwork Amnesia + nome e cognome + numero persone\nes: in 8 persone 
 scrivere: Alicante Clockwork Amnesia Francesco Verdi\, 8 persone\nPer info
 rmazioni e prenotazioni contattare il +393282345620 (anche whatsapp)\n[/pi
 nkbox]\nSabato 23 Maggio 2015 - dalle ore 23.00 alle ...\nCLOSING PARTY WI
 NTER SEASON\n+\nSOCIAL MUSIC CITY AFTERSHOW\nMain Room:\n\nILARIO ALICANTE
 \nCLOCKWORK\nSTEFANO DI MICELI\n2nd Room\, A.Lab:\nFALL OUT\nROBERTO ENFAS
 I - DANIELE CERRI b2b FABIO CEEDZA\nALBERTO RAGUSA - GABRIELE POLETTI\nSab
 ato 23 maggio 2015 due feste in una\, all’Amnesia Milano\, dove per una 
 notte convivono il party di chiusura della stagione invernale e il nuovo a
 fter-show di Social Music City. La consolle come sempre è a prova di bomb
 a\, grazie alla presenza di Ilario Alicante\, Clockwork e Stefano di Micel
 i. Ilario Alicante torna nel locale dove da sempre è protagonista di epic
 he maratone sonore\, ore e ore di musica che negli anni ha saputo conquist
 are festival quali Timewarp e one-night quali Cocoon: uno dei più fulgidi
  esempi di italiani da esportazione. Robusti studi classici alle spalle\, 
 Clockwork non si discosta quasi mai da una techno che possiamo definire me
 lodica\, senza per questo trascurare i momenti nei quali lasciarsi sedurre
  da atmosfere più dark e se vogliamo da club. Stefano di Miceli\, Amnesia
  Milano resident\, garantisce sempre un rendimento di qualità assoluta\, 
 frutto di un lavoro di ricerca e di un amore eterno per il vinile che lo s
 pingono sempre a migliorarsi. Un approccio alla materia che molti djs\, no
 n soltanto i resident\, non dovrebbero mai abbandonare.\n\nSabato 23 maggi
 o A.Lab (Amnesia second room) diventa Fall Out. In consolle Roberto Enfasi
 \, Daniele Cerri b2b Fabio Ceedza\, Alberto Raagusa e Gabriele Poletti.
ATTACH;FMTTYPE=image/jpeg:https://www.milanoindiscoteca.it/wp-content/uplo
 ads/2015/05/Alicante-Clockwork-Amnesia-Milano-Milanoindiscoteca.jpg
CATEGORIES:Evento con prevendita,Serate Elettroniche
LOCATION:Amnesia Milano\, Via Alfonso Gatto (angolo Forlanini)\, Milano\, I
 talia
GEO:45.465454;9.186516
X-APPLE-STRUCTURED-LOCATION;VALUE=URI;X-ADDRESS=Via Alfonso Gatto (angolo F
 orlanini)\, Milano\, Italia;X-APPLE-RADIUS=100;X-TITLE=Amnesia Milano:geo:
 45.465454,9.186516
END:VEVENT
END:VCALENDAR