BEGIN:VCALENDAR
VERSION:2.0
PRODID:-//wp-events-plugin.com//7.2.3.1//EN
TZID:Europe/Rome
X-WR-TIMEZONE:Europe/Rome
BEGIN:VEVENT
UID:15579@milanoindiscoteca.it
DTSTART:20150123T230000Z
DTEND:20150123T230000Z
DTSTAMP:20150117T114921Z
URL:https://www.milanoindiscoteca.it/eventi-milano/adam-beyer-amnesia-mila
 no-sabato-24-gennaio/
SUMMARY:Adam Beyer Amnesia Milano Sabato 24 Gennaio
DESCRIPTION:[pinkbox]Prezzi Adam Beyer Amnesia Milano Sabato 24 Gennaio:\nP
 revendite 16€ + d.d.p.(valide tutta la notte con ingresso privilegiato)\
 nRidotto 15€ (fino a mezzanotte)\nRidotto 20€ (liste fino alle 1.15)\n
 \n&nbsp\;\nTavoli:\nPrivè Consolle 500€ x 10 persone con 2 bottiglie(Ch
 ampagne o alcolico superior)\nPrivè 200€ x 5 persone con 1 bottiglia\nP
 ista 160€ x 5 persone con 1 bottiglia\n[/pinkbox]\n&nbsp\;\nPer essere i
 nseriti nella lista NOMINALE di MILANOINDISCOTECA:\nscrivere sms (anche wh
 atsapp) al +39 328 2345620 con: Amnesia Beyer + nome e cognome + numero pe
 rsone\n\nes: in 8 persone scrivere: Amnesia Beyer Francesco Verdi\, 8 pers
 one\n\nSi ricorda che è sempre vigente la selezione all’ingresso. Abbig
 liamento curato è sempre gradito.\n&nbsp\;\nInfo line / Info tavoli amnes
 ia milano: + 39 3282345620  (anche whatsapp)\n&nbsp\;\nInfo Serata Adam Be
 yer Amnesia Milano Sabato 24 Gennaio:\n&nbsp\;\nMain Room:\n\nADAM BEYER\n
 (Drumcode)\n\nDA VID\n(Cocoricò)\n\n&nbsp\;\nSabato 24 gennaio 2015 l’A
 mnesia Milano presenta un dj autentico Re Mida della consolle\, letteralme
 nte capace di trasformare in oro tutto quello che suona e manipola: lo sve
 dese Adam Beyer\, che torna nel locale milanese a poco più di un anno di 
 distanza dalla sua sfrenata esibizione che costituì il primo party Drumco
 de mai tenutosi prima d’allora in Italia. Drumcode è il nome della labe
 l creata nel 1996 da Beyer medesimo e che ha ampiamente superato il tragua
 rdo delle 100 uscite discografiche\, così come l’omonimo radio-show van
 ta un’audience potenziale di tre milioni di ascoltatori\, seguaci della 
 techno sempre elegante e quasi mai minimale del producer scandivano. Sabat
 o 24 Beyer viene affiancato da Da Vid\, per anni mattatore di Buongiorno C
 lassic ed ora dj resident del Cocoricò\, che rappresenta in diverse ed es
 clusive serate italiane\, mentre sabato 24 A.Lab (Amnesia Milano second ro
 om) si trasforma in Fall Out con i djs All For One\, Andrew Pave\, Luca Te
 rzi\, Fabio Ceedza e Daniele Cerri.
ATTACH;FMTTYPE=image/jpeg:https://www.milanoindiscoteca.it/wp-content/uplo
 ads/2015/01/Adam-Beyer-Sabato-Amnesia-Milano-24-Gennaio-Milanoindiscoteca.
 jpg
CATEGORIES:Evento con prevendita,Evento in homepage,Serate Elettroniche
LOCATION:Amnesia Milano\, Via Alfonso Gatto (angolo Forlanini)\, Milano\, I
 talia
GEO:45.465454;9.186516
X-APPLE-STRUCTURED-LOCATION;VALUE=URI;X-ADDRESS=Via Alfonso Gatto (angolo F
 orlanini)\, Milano\, Italia;X-APPLE-RADIUS=100;X-TITLE=Amnesia Milano:geo:
 45.465454,9.186516
END:VEVENT
END:VCALENDAR